BEGIN:VCALENDAR
VERSION:2.0
PRODID:-//Societatea Părinților Informați - ECPv6.3.5//NONSGML v1.0//EN
CALSCALE:GREGORIAN
METHOD:PUBLISH
X-ORIGINAL-URL:https://societateaparintilor.ro
X-WR-CALDESC:Events for Societatea Părinților Informați
REFRESH-INTERVAL;VALUE=DURATION:PT1H
X-Robots-Tag:noindex
X-PUBLISHED-TTL:PT1H
BEGIN:VTIMEZONE
TZID:UTC
BEGIN:STANDARD
TZOFFSETFROM:+0000
TZOFFSETTO:+0000
TZNAME:UTC
DTSTART:20220101T000000
END:STANDARD
END:VTIMEZONE
BEGIN:VEVENT
DTSTART;TZID=UTC:20220211T190000
DTEND;TZID=UTC:20220211T210000
DTSTAMP:20260424T063124
CREATED:20220417T113643Z
LAST-MODIFIED:20220421T121409Z
UID:429-1644606000-1644613200@societateaparintilor.ro
SUMMARY:Dialoguri Interzise despre Moarte
DESCRIPTION:Adesea primim din partea copiilor noștri întrebări precum: Ce este moartea? Ce se întâmplă după ce mori? sau De ce mor oamenii și animalele? \nExistă oare un răspuns corect din partea noastră? \nVino la webinarul “Dialoguri interzise despre moarte”\, dedicat acestui subiect tabu și află tot ce ai nevoie să știi de la psihoterapeutul Cristina Dinu Popa. \nSpeaker: Cristina Dinu-Popa\nCristina este un psihoterapeut cu o experiență de peste 13 ani\, iar din 2015 este și consultant pentru inovație în educație. Ea a dezvoltat cursul online “Cum le vorbim copiilor despre sexualitate\, corp și relații?” – o experiență de o săptămână dedicate părinților. \nLucrează din 2007 în consiliere și în psihoterapia experiențială a unificării\, centrată pe adult\, cuplu\, copil și familie\, îmbinând modalitățile clasice cu cele alternative\, precum dans-terapie sau art-terapie. \nCrede cu tărie că în plantarea de semințe verzi și hrănitoare în grădina interioară a copiilor\, pentru ca ele să înflorească atunci când este timpul potrivit. \nPentru a descoperi mai multe despre Cristina Dinu-Popa puteși accesa pagina: https://cristinadinupopa.ro/
URL:https://societateaparintilor.ro/eveniment/dialoguri-interzise-despre-moarte-2/
LOCATION:Online
CATEGORIES:Webinarii
ATTACH;FMTTYPE=image/jpeg:https://societateaparintilor.ro/wp-content/uploads/2022/04/Webinar-Dialoguri-interzise-despre-moarte-Afis-Societatea-Parintilor-Informati-mic.jpg
ORGANIZER;CN="Societatea P%C4%83rin%C8%9Bilor":MAILTO:info@societateaparintilor.ro
END:VEVENT
END:VCALENDAR