BEGIN:VCALENDAR
VERSION:2.0
PRODID:-//Societatea Părinților Informați - ECPv6.3.5//NONSGML v1.0//EN
CALSCALE:GREGORIAN
METHOD:PUBLISH
X-ORIGINAL-URL:https://societateaparintilor.ro
X-WR-CALDESC:Events for Societatea Părinților Informați
REFRESH-INTERVAL;VALUE=DURATION:PT1H
X-Robots-Tag:noindex
X-PUBLISHED-TTL:PT1H
BEGIN:VTIMEZONE
TZID:UTC
BEGIN:STANDARD
TZOFFSETFROM:+0000
TZOFFSETTO:+0000
TZNAME:UTC
DTSTART:20220101T000000
END:STANDARD
END:VTIMEZONE
BEGIN:VEVENT
DTSTART;TZID=UTC:20221109T180000
DTEND;TZID=UTC:20221109T210000
DTSTAMP:20260423T235730
CREATED:20221011T090305Z
LAST-MODIFIED:20221110T080446Z
UID:1014-1668016800-1668027600@societateaparintilor.ro
SUMMARY:CUM SĂ-MI PROTEJEZ COPILUL DE INFECȚII RESPIRATORII?
DESCRIPTION:Pentru părinții care vor să întâmpine sezonul virozelor pregătiți și informați \n  \nAflă de la medici renumiți cum poți să previi efectele negative ale virozelor respiratorii\, cum ajuți copilul să le depășească și ce poți face pentru a întări sistemul imunitar al copilului.  \nMă înscriu GRATUIT \nOdată cu venirea toamnei\, numărul virozelor respiratorii în rândul copiilor crește alarmant. Scăderea temperaturilor\, normală pentru această perioadă\, dar și începerea școlilor și grădinițelor favorizează răspândirea virozelor.  \nDincolo de disconfortul creat copilului\, chiar și de o viroză ușoară\, precum și de stresul cauzat părinților\, virozele respiratorii sunt\, din păcate\, una dintre principalele cauze de mortalitate\,  la copii\, dar și la adulți.  \nVirozele respiratorii sunt o povară pentru copil\, pentru părinți dar și pentru sistemul de sănătate. \n  \nCostul nevăzut al virozelor respiratorii \n\n\n\nVizite la medic și uneori\nchiar spitalizări inutile\nInvestigații și\ntratamente inutile\nAbsenteism\n(atât al copilului\, cât și am părintelui)\n\n\n\n  \nUn părinte informat este cel mai bun ajutor pentru copil la debutul unei viroze respiratorii. Cunoșterea informațiilor de bază despre viroze\, despre sistemul imunitar imatur al copilului\, precum și de modul de tratament al primelor simptome\, poate face o mare diferență în evoluția bolii dar și în răspândirea virozelor în colectivitate.  \nSunt situații în care este necesar să mergi la medic (vârsta foarte mică a copilului\, istoric medical ce pune copilul în risc)\, însă în majoritatea cazurilor\, copiii cu o dezvoltare normală trec cu bine peste aceste episoade. Ba chiar sunt un ajutor de nădejde în dezvoltarea sistemului imunitar. \nVrei să descoperi cum să previi efectele negative ale virozelor\, care este diferența\, dar și legătura între infecțiile virale și bacteriene\, dar și cele mai importante lucruri pe care le poți face pentru a ajuta sistemul imunitar al copilului să lupte cu virozele? \nVrei să afli care sunt obiceiurile sănătoase\, pe care le poți implementa chiar acum în rutina voastră de familie\, pentru o sănătate mai bună a copilului dar și a ta? \nAtunci te așteptăm la webinar \nVrem sau nu vrem\, sezonul virozelor își face simțită prezența\, an de an. Vino să afli ce poți face pentru a preveni infecțiile respiratorii\, de la invitații noștri\, medici renumiți și foarte apreciați. 
URL:https://societateaparintilor.ro/eveniment/cum-sa-mi-protejez-copilul-de-infectii-respiratorii-2022/
LOCATION:Online
CATEGORIES:Webinarii
ATTACH;FMTTYPE=image/jpeg:https://societateaparintilor.ro/wp-content/uploads/2022/10/Afis_Profilaxia_a1.jpg
ORGANIZER;CN="Societatea P%C4%83rin%C8%9Bilor":MAILTO:info@societateaparintilor.ro
END:VEVENT
END:VCALENDAR