BEGIN:VCALENDAR
VERSION:2.0
PRODID:-//Societatea Părinților Informați - ECPv6.3.5//NONSGML v1.0//EN
CALSCALE:GREGORIAN
METHOD:PUBLISH
X-WR-CALNAME:Societatea Părinților Informați
X-ORIGINAL-URL:https://societateaparintilor.ro
X-WR-CALDESC:Events for Societatea Părinților Informați
REFRESH-INTERVAL;VALUE=DURATION:PT1H
X-Robots-Tag:noindex
X-PUBLISHED-TTL:PT1H
BEGIN:VTIMEZONE
TZID:UTC
BEGIN:STANDARD
TZOFFSETFROM:+0000
TZOFFSETTO:+0000
TZNAME:UTC
DTSTART:20220101T000000
END:STANDARD
END:VTIMEZONE
BEGIN:VEVENT
DTSTART;TZID=UTC:20220609T180000
DTEND;TZID=UTC:20220609T200000
DTSTAMP:20260424T065040
CREATED:20220516T095425Z
LAST-MODIFIED:20220608T130915Z
UID:772-1654797600-1654804800@societateaparintilor.ro
SUMMARY:Discuții interzise cu copiii - despre corp și relații
DESCRIPTION:Într-o lume în care copiii sunt expuși în permanență la imagini\, limbaj sau comportamente sexuale\, îți revine ție\, ca părinte\, obligația de a-l îndruma pentru a se înțelege mai bine pe el și societatea în care crește. \nNe face o deosebită plăcere să le avem alături de noi și pe dna. Prof. Dr. Doina Pleșca\, președintele Societății Române de Pediatrie\, dar și pe dna. Dr. Sandra Alexiu\, doctor de familie și Președintele Asociației Medicilor din București. Împreună vom răspunde la toate întrebările pe care le aveți cu privire la acest subiect! \nVa fi alături de noi și Cristina Dinu-Popa\, psihoterapeut cu o experiență de peste 13 ani\, iar din 2015 este și consultant pentru inovație în educație. Ea a dezvoltat cursul online “Cum le vorbim copiilor despre sexualitate\, corp și relații?”
URL:https://societateaparintilor.ro/eveniment/discutii-interzise-cu-copiii/
LOCATION:Online
CATEGORIES:Webinarii
ATTACH;FMTTYPE=image/jpeg:https://societateaparintilor.ro/wp-content/uploads/2022/05/sexualitate-EDUCATIE-PENTRU-SANATATE-2.jpg
END:VEVENT
END:VCALENDAR