BEGIN:VCALENDAR
VERSION:2.0
PRODID:-//Societatea Părinților Informați - ECPv6.3.5//NONSGML v1.0//EN
CALSCALE:GREGORIAN
METHOD:PUBLISH
X-WR-CALNAME:Societatea Părinților Informați
X-ORIGINAL-URL:https://societateaparintilor.ro
X-WR-CALDESC:Events for Societatea Părinților Informați
REFRESH-INTERVAL;VALUE=DURATION:PT1H
X-Robots-Tag:noindex
X-PUBLISHED-TTL:PT1H
BEGIN:VTIMEZONE
TZID:UTC
BEGIN:STANDARD
TZOFFSETFROM:+0000
TZOFFSETTO:+0000
TZNAME:UTC
DTSTART:20200101T000000
END:STANDARD
END:VTIMEZONE
BEGIN:VEVENT
DTSTART;TZID=UTC:20210518T170000
DTEND;TZID=UTC:20210518T192000
DTSTAMP:20260419T204010
CREATED:20220422T112210Z
LAST-MODIFIED:20220504T074852Z
UID:544-1621357200-1621365600@societateaparintilor.ro
SUMMARY:Cum să am o relație sănătoasă cu copilul meu?
DESCRIPTION:Vrei să fii un părinte model? Vrei să crești un copil fericit\, sănătos și încrezător în forțele proprii? Secretul este să creezi o relație apropiată cu el. Să faci din conexiunea cu cel mic prioritatea ta ca părinte. Cum poți să faci acest lucru? Vino la webinarul „Cum să am o relație sănătoasă cu copilul meu” și află informații de calitate din cele mai bune surse.
URL:https://societateaparintilor.ro/eveniment/cum-sa-ai-o-relatie-sanatoasa-cu-copilul-tau/
LOCATION:Online
CATEGORIES:Webinarii
ATTACH;FMTTYPE=image/jpeg:https://societateaparintilor.ro/wp-content/uploads/2022/04/relatie-sanatoasa-cu-copilul-meu-afis-webinar-societatea-parintilor-informati.jpg
ORGANIZER;CN="Societatea P%C4%83rin%C8%9Bilor":MAILTO:info@societateaparintilor.ro
END:VEVENT
BEGIN:VEVENT
DTSTART;TZID=UTC:20210305T000000
DTEND;TZID=UTC:20210305T000000
DTSTAMP:20260419T204010
CREATED:20220425T071247Z
LAST-MODIFIED:20220504T074722Z
UID:552-1614902400-1614902400@societateaparintilor.ro
SUMMARY:Ce este și cum poți preveni infecția cu HPV?
DESCRIPTION:Știai că infecția cu HPV (Human papillomavirus) poate provoca nu mai puțin de 4 tipuri de cancer? Iar în privința cancerului de col uterin este responsabilă de peste 90% din cazuri. \nDin păcate\, infecția cu HPV nu poate fi tratată dar există soluții pentru prevenirea ei. Iar acestea se aplică încă din copilărie. \nÎnscrie-te la webinar și află mai multe despre cum poți preveni infecția cu HPV! \nPlanul European privind Lupta cu Cancerul\nComisia Europeană a lansat Planul European privind Lupta cu Cancerul – o prioritate majoră în domeniul sănătății a Comisiei von der Leyen și un pilon-cheie al Uniunii Europene a Sănătății. Având ca punct de plecare noile tehnologii\, cercetarea și inovarea\, Planul privind Lupta cu Cancerul stabilește o nouă abordare a UE în ceea ce privește prevenirea și tratamentul cancerului. Acesta va aborda întregul parcurs al bolii\, de la prevenție la calitatea vieții pacienților cu cancer și a supraviețuitorilor\, concentrându-se asupra acțiunilor în care UE poate aduce cea mai mare valoare. \nPlanul privind Lupta cu Cancerul este structurat în jurul a patru domenii-cheie de acțiune\, cu 10 inițiative importante și acțiuni de sprijin multiple. Acesta va fi pus în aplicare utilizând întreaga gamă de instrumente de finanțare ale Comisiei\, în valoare totală de 4 miliarde EUR fiind alocate pentru acțiuni de combatere a cancerului\, inclusiv din programul EU4Health\, Orizont Europa și programul Europa Digitală. \nPrevenirea prin acțiuni care abordează factori de risc cheie\, cum ar fi tutunul (cu scopul de a se asigura că mai puțin de 5% din populație utilizează tutun până în 2040)\, consumul nociv de alcool\, poluarea mediului și substanțele periculoase. În plus\, o campanie “HealthyLifestyle4All” va promova diete sănătoase și activitatea fizică. Pentru a preveni cancerele cauzate de infecția HPV\, obiectivul Planului privind cancerul este de a vaccina cel puțin 90 % din populația țintă de fete a UE și de a crește semnificativ vaccinarea băieților până în 2030.
URL:https://societateaparintilor.ro/eveniment/cum-sa-previi-infectia-cu-hpv/
CATEGORIES:Webinarii
ATTACH;FMTTYPE=image/jpeg:https://societateaparintilor.ro/wp-content/uploads/2022/04/webinar-medical-cum-sa-previi-infectia-cu-hpv-societatea-parintilor-informati.jpg
END:VEVENT
BEGIN:VEVENT
DTSTART;TZID=UTC:20210226T170000
DTEND;TZID=UTC:20210226T190000
DTSTAMP:20260419T204010
CREATED:20220418T045035Z
LAST-MODIFIED:20220425T074159Z
UID:441-1614358800-1614366000@societateaparintilor.ro
SUMMARY:Cum identificăm alergii sau intoleranțe alimentare la copii?
DESCRIPTION:Odată cu procesul de industrializare din ultimii 50 de ani a crescut numărul cazurilor de alergii și intoleranțe alimentare. Ele sunt mai frecvente la copii comparativ cu adulții. Astfel\, între 4% și 7% dintre copiii preșcolari au alergii alimentare\, iar gravitatea simptomelor variază de la urticarie la șoc anafilactic. \nParticipă și tu la webinar dacă ai un copil cu alergii sau intoleranțe alimentare\, ori suspectezi că ar putea avea astfel de probleme. \nNe dorim să creăm un dialog între medici de top și părinți. De aceea\, am pregătit un concept nou de evenimente digitale\, în care am invitat 3 medici specialisti\, care vor prezenta informație medicală de calitate\, pe înțeles și pe îndelete. \nNe propunem să oferim educație pentru sănătate\, de aceea îi avem alături pe cei mai buni medici ai României. \n  \n 
URL:https://societateaparintilor.ro/eveniment/cum-identificam-alergiile-intolerante-alimentare-la-copii/
LOCATION:Online
CATEGORIES:Webinarii
ATTACH;FMTTYPE=image/jpeg:https://societateaparintilor.ro/wp-content/uploads/2022/04/alergiile-la-copii.jpg
ORGANIZER;CN="Ella Congress&Events":MAILTO:alexandra.filip@ella.ro
END:VEVENT
BEGIN:VEVENT
DTSTART;TZID=UTC:20201127T170000
DTEND;TZID=UTC:20201127T200000
DTSTAMP:20260419T204010
CREATED:20220421T124431Z
LAST-MODIFIED:20220504T134736Z
UID:519-1606496400-1606507200@societateaparintilor.ro
SUMMARY:Cum să-mi protejez copilul de infecții respiratorii
DESCRIPTION:Infecțiile respiratorii sunt frecvente la copii în sezonul rece și reprezintă una dintre îngrijorările părinților în această perioadă. Iar pandemia COVID 19 nu face decât să amplifice această situație. În cadrul evenimentului: CUM SA-MI PROTEJEZ COPILUL IN CONTEXTUL PANDEMIEI COVID 19\, vă răspund la întrebări despre infecții respiratorii trei medici de renume. \nDintre subiectele discuțillor menționăm: \n\nInfectiile acute respiratorii la copii in contextul pandemiei de COVID-19\nCum prevenim infectiile acute respiratorii ale copilului in actualul sezon\nAstmul pediatric: provocari in pandemie\n\nPuteți descărca broșura webinarului despre infecțiile respiratorii aici. \nParticiparea la eveniment este gratuită. \nSimona Dragomir – moderator webinar infectii respiratorii – societatea parintilor informati
URL:https://societateaparintilor.ro/eveniment/cum-sa-mi-protejez-copilul-de-infectii-respiratorii/
LOCATION:Online
CATEGORIES:Webinarii
ATTACH;FMTTYPE=image/jpeg:https://societateaparintilor.ro/wp-content/uploads/2022/04/Webinarii-medicale-2020-Societatea-parintilor-informati-banner-mare.jpg
ORGANIZER;CN="Societatea P%C4%83rin%C8%9Bilor":MAILTO:info@societateaparintilor.ro
END:VEVENT
BEGIN:VEVENT
DTSTART;TZID=UTC:20200508T180000
DTEND;TZID=UTC:20200508T200000
DTSTAMP:20260419T204010
CREATED:20220421T111939Z
LAST-MODIFIED:20220504T142812Z
UID:495-1588960800-1588968000@societateaparintilor.ro
SUMMARY:Webinar Societatea Părinților Informați
DESCRIPTION:
URL:https://societateaparintilor.ro/eveniment/webinar-societatea-parintilor-informati/
LOCATION:Online
CATEGORIES:Webinarii
ATTACH;FMTTYPE=image/png:https://societateaparintilor.ro/wp-content/uploads/2022/03/societatea-parintilor-informati-logo.png
ORGANIZER;CN="Societatea P%C4%83rin%C8%9Bilor":MAILTO:info@societateaparintilor.ro
END:VEVENT
BEGIN:VEVENT
DTSTART;VALUE=DATE:20200508
DTEND;VALUE=DATE:20200509
DTSTAMP:20260419T204010
CREATED:20220421T115440Z
LAST-MODIFIED:20220504T142056Z
UID:497-1588896000-1588982399@societateaparintilor.ro
SUMMARY:Webinar medical\, special pentru părinți
DESCRIPTION:Informație medicală de calitate\, pe înțeles\, pe îndelete\, într-un webinar medical creat special pentru părinți.\nNe dorim să creăm un dialog între medici de top și părinți\, de aceea\, am pregătit un concept nou de evenimente digitale\, în care am invitat 8 medici specialisti\, care vor prezenta informație medicală de calitate\, pe înțeles și pe îndelete.\nNe propunem să oferim educație pentru sănătate\, de aceea îi avem alături pe cei mai buni medici ai României. \n \nTemele dialogului dintre medici și părinți în acest webinar medical: Somn\, vaccinare\, psihiatrie\, oftalmologie\, alergii și nutriție.\n\nInformație medicală – Ai informație medicală: de calitate\, pe înțeles\, pe îndelete. \n8 medici de top – Te învață cum să ai grijă de sănătatea familiei tale. \nWebinarii medicale – Participă la webinariile medicale\, create special pentru părinți.
URL:https://societateaparintilor.ro/eveniment/webinar-medical-special-pentru-parinti/
LOCATION:Online
CATEGORIES:Webinarii
ORGANIZER;CN="Societatea P%C4%83rin%C8%9Bilor":MAILTO:info@societateaparintilor.ro
END:VEVENT
END:VCALENDAR