BEGIN:VCALENDAR
VERSION:2.0
PRODID:-//Societatea Părinților Informați - ECPv6.3.5//NONSGML v1.0//EN
CALSCALE:GREGORIAN
METHOD:PUBLISH
X-ORIGINAL-URL:https://societateaparintilor.ro
X-WR-CALDESC:Events for Societatea Părinților Informați
REFRESH-INTERVAL;VALUE=DURATION:PT1H
X-Robots-Tag:noindex
X-PUBLISHED-TTL:PT1H
BEGIN:VTIMEZONE
TZID:UTC
BEGIN:STANDARD
TZOFFSETFROM:+0000
TZOFFSETTO:+0000
TZNAME:UTC
DTSTART:20230101T000000
END:STANDARD
END:VTIMEZONE
BEGIN:VEVENT
DTSTART;TZID=UTC:20230214T180000
DTEND;TZID=UTC:20230214T200000
DTSTAMP:20260423T224429
CREATED:20230117T130810Z
LAST-MODIFIED:20230214T161018Z
UID:1123-1676397600-1676404800@societateaparintilor.ro
SUMMARY:Afecțiuni respiratorii de sezon: gripa\, infecțiile cu virus sincițial respirator
DESCRIPTION:Acces Webinar \nSocietatea Părinților Informați organizează în data de 14 februarie 2023\, de la ora 18:00\, webinarul Afecțiuni respiratorii de sezon: gripa\, infecțiile cu virus sincițial respirator\, cu sprijinul Conf. Dr. Gheorghiță Jugulete\, medic primar boli infecțioase și Dr. Crenguța Momîrlă\, medic specialist pediatru și gastroenterolog pediatru. \nModerator: Simona Dragomir. \nÎn cadrul acestui eveniment\, ne dorim să discutăm despre gripă\, infecțiile cu virus respirator sincițial\, virusul SARS COV2\, dar și despre alte viroze pe care le întâlnim în această perioadă. \nCare sunt cauzele acestor infecții virale respiratorii?\nDe ce atât de mulți copii bolnavi acum? Ce s-a schimbat?\nCum le diferențiem?\nCare sunt simptomele și cum le tratăm?\nAerosolii ne ajută?\nSe pot complica? Cum prevenim aceste infecții?\nMai este benefică vaccinarea antigripală? Cum le consolidăm imunitatea? \nAceste întrebări\, dar și multe altele\, își vor găsi răspunsul în cadrul discuției online. \nVă așteptăm! \nAcces Webinar
URL:https://societateaparintilor.ro/eveniment/afectiuni-respiratorii-de-sezon-gripa-infectiile-cu-virus-respirator-sincitial/
CATEGORIES:Webinarii
ATTACH;FMTTYPE=image/jpeg:https://societateaparintilor.ro/wp-content/uploads/2023/01/afectiuni-respiratorii-de-sezon-1920x1080px.jpg
END:VEVENT
BEGIN:VEVENT
DTSTART;TZID=UTC:20230315T180000
DTEND;TZID=UTC:20230315T200000
DTSTAMP:20260423T224429
CREATED:20230217T111127Z
LAST-MODIFIED:20230314T105004Z
UID:1177-1678903200-1678910400@societateaparintilor.ro
SUMMARY:Infectia cu HPV (Papilomavirus) la copii: TOT CE TREBUIE SA STII!
DESCRIPTION:
URL:https://societateaparintilor.ro/eveniment/infectia-cu-hpv-papilomavirus-la-copii-tot-ce-trebuie-sa-stii/
CATEGORIES:Webinarii
ATTACH;FMTTYPE=image/jpeg:https://societateaparintilor.ro/wp-content/uploads/2023/02/infectia-HPV-copii-1920x1080px.jpg
ORGANIZER;CN="Societatea P%C4%83rin%C8%9Bilor":MAILTO:info@societateaparintilor.ro
END:VEVENT
BEGIN:VEVENT
DTSTART;TZID=UTC:20230404T180000
DTEND;TZID=UTC:20230404T200000
DTSTAMP:20260423T224429
CREATED:20230316T141750Z
LAST-MODIFIED:20230316T141750Z
UID:1206-1680631200-1680638400@societateaparintilor.ro
SUMMARY:Dialoguri Interzise despre Moarte - Editia a II-a
DESCRIPTION:Adesea primim din partea copiilor noștri întrebări precum: Ce este moartea? Ce se întâmplă după ce mori? sau De ce mor oamenii și animalele? \nExistă oare un răspuns corect din partea noastră? \nVino la webinarul “Dialoguri interzise despre moarte”\, dedicat acestui subiect tabu și află tot ce ai nevoie să știi de la psihoterapeutul Cristina Dinu Popa. \nSpeaker: Cristina Dinu-Popa\nCristina este un psihoterapeut cu o experiență de peste 14 ani\, iar din 2015 este și consultant pentru inovație în educație. Ea a dezvoltat cursul online “Cum le vorbim copiilor despre sexualitate\, corp și relații?” – o experiență de o săptămână dedicate părinților. \nLucrează din 2007 în consiliere și în psihoterapia experiențială a unificării\, centrată pe adult\, cuplu\, copil și familie\, îmbinând modalitățile clasice cu cele alternative\, precum dans-terapie sau art-terapie. \nCrede cu tărie că în plantarea de semințe verzi și hrănitoare în grădina interioară a copiilor\, pentru ca ele să înflorească atunci când este timpul potrivit. \nPentru a descoperi mai multe despre Cristina Dinu-Popa puteși accesa pagina: https://cristinadinupopa.ro/
URL:https://societateaparintilor.ro/eveniment/dialoguri-interzise-despre-moarte-editia-a-ii-a/
LOCATION:Online
CATEGORIES:Webinarii
ATTACH;FMTTYPE=image/jpeg:https://societateaparintilor.ro/wp-content/uploads/2023/03/dialoguri-interzise-despre-moarte-2_.jpg
ORGANIZER;CN="Societatea P%C4%83rin%C8%9Bilor":MAILTO:info@societateaparintilor.ro
END:VEVENT
BEGIN:VEVENT
DTSTART;TZID=UTC:20230510T180000
DTEND;TZID=UTC:20230510T200000
DTSTAMP:20260423T224429
CREATED:20230217T113037Z
LAST-MODIFIED:20230510T092429Z
UID:1183-1683741600-1683748800@societateaparintilor.ro
SUMMARY:Afectiuni digestive la copii
DESCRIPTION:–
URL:https://societateaparintilor.ro/eveniment/afectiuni-digestive-la-copii/
CATEGORIES:Webinarii
ATTACH;FMTTYPE=image/jpeg:https://societateaparintilor.ro/wp-content/uploads/2023/02/afectiuni-digestive-copii-1920x1080px-1.jpg
ORGANIZER;CN="Societatea P%C4%83rin%C8%9Bilor":MAILTO:info@societateaparintilor.ro
END:VEVENT
BEGIN:VEVENT
DTSTART;TZID=UTC:20231021T100000
DTEND;TZID=UTC:20231021T170000
DTSTAMP:20260423T224429
CREATED:20230512T064949Z
LAST-MODIFIED:20231020T101822Z
UID:1239-1697882400-1697907600@societateaparintilor.ro
SUMMARY:Educație pentru sănătatea copilului - O aventură în familie!
DESCRIPTION:Pentru părinții preocupați de sănătatea fizică și mentală a copiilor lor \n  \nAflă informații sigure despre 3 subiecte de mare interes pentru părinți\, direct de la specialiști \nViața de părinte este frumoasă\, dar nu este deloc ușoară. \nGrija pentru copiii noștri este una constantă\, dorința noastră cea mai mare fiind să îi știm bine. \nÎncă de la naștere\, sănătatea copilului devine un aspect primordial și ne dorim să-l ținem cât mai departe de diverse afecțiuni. \nÎn același timp\, uneori poate deveni greu să faci față provocărilor ce vin împreună cu această calitate de părinte și să menții echilibrul în viața de familie. \n„Pe măsură ce cresc\, copiii pot uita ceea ce le-ai spus\, dar nu vor uita felul în care i-ai făcut să se simtă.”\nKevin Heath \nNu există părinți perfecți\, dar pot exista părinți informați corect. \nSingura cale pentru a încerca să fii cât mai bun în acest rol este să te expui la informații sigure și să înveți cât mai multe despre această artă de a fi părinte. \nÎn cadrul evenimentului nostru vei afla lucruri esențiale care să te ghideze în această călătorie a vieții de părinte.\n  \nDe ce să vii la eveniment?\n\nVei afla informații esențiale relatate de specialiști în domeniul sănătății și educației\nVei putea participa la discuții și pune întrebări\nPoți participa alături de copilul tău\nMulte dintre lucrurile care te frământă ca și părinte își vor găsi răspunsul\nAi ocazia să interacționezi cu alți părinți care trec prin provocări similare cu ale tale\nContribui la o cauză nobilă\, fondurile stranse din bilete\, vor fi folosite pentru finanțarea activităților de informare medicală și educație pentru mamele din zonele rurale defavorizate\, în vederea reducerii mortalității infantile și promovarea sănătății mamelor și gravidelor vulnerabile.\n\nEști pregătit să treci la nivelul următor în evoluția ta ca și părinte?
URL:https://societateaparintilor.ro/eveniment/educatie-pentru-sanatata-copilului-o-aventura-in-familie/
LOCATION:Teatrul National de Opera si Musical “Ion Dacian”\, Bulevardul Octavian Goga 1\, București\, 030167\, Romania
CATEGORIES:Workshopuri
ATTACH;FMTTYPE=image/jpeg:https://societateaparintilor.ro/wp-content/uploads/2023/05/Afis-eveniment-21-octombrie-scaled.jpg
ORGANIZER;CN="Societatea P%C4%83rin%C8%9Bilor":MAILTO:info@societateaparintilor.ro
END:VEVENT
END:VCALENDAR