BEGIN:VCALENDAR
VERSION:2.0
PRODID:-//Societatea Părinților Informați - ECPv6.3.5//NONSGML v1.0//EN
CALSCALE:GREGORIAN
METHOD:PUBLISH
X-WR-CALNAME:Societatea Părinților Informați
X-ORIGINAL-URL:https://societateaparintilor.ro
X-WR-CALDESC:Events for Societatea Părinților Informați
REFRESH-INTERVAL;VALUE=DURATION:PT1H
X-Robots-Tag:noindex
X-PUBLISHED-TTL:PT1H
BEGIN:VTIMEZONE
TZID:UTC
BEGIN:STANDARD
TZOFFSETFROM:+0000
TZOFFSETTO:+0000
TZNAME:UTC
DTSTART:20220101T000000
END:STANDARD
END:VTIMEZONE
BEGIN:VEVENT
DTSTART;TZID=UTC:20220527T170000
DTEND;TZID=UTC:20220527T190000
DTSTAMP:20260424T094754
CREATED:20220502T102349Z
LAST-MODIFIED:20220531T111128Z
UID:622-1653670800-1653678000@societateaparintilor.ro
SUMMARY:Dureri Abdominale. Alergii Versus Intoleranțe Alimentare
DESCRIPTION:Știi care este diferența dintre alergii și intoleranțe alimentare? Majoritatea părinților s-au confruntat cu una dintre ele pe parcursul creșterii celui mic. \nTe invităm la webinarul Dureri Abdominale. Alergii Versus Intoleranțe Alimentare din 27 mai\, începând cu orele 17.00\, pentru a afla de la specialiști care sunt motivele pentru care copiii nu agreează anumite alimente și cum gestionăm aceste situații neplăcute.
URL:https://societateaparintilor.ro/eveniment/dureri-abdominale-alergii-versus-intolerante-alimentare/
LOCATION:Online
CATEGORIES:Webinarii
ATTACH;FMTTYPE=image/jpeg:https://societateaparintilor.ro/wp-content/uploads/2022/05/Evenim-27-mai_1200x675.jpg
ORGANIZER;CN="Societatea P%C4%83rin%C8%9Bilor":MAILTO:info@societateaparintilor.ro
END:VEVENT
END:VCALENDAR