BEGIN:VCALENDAR
VERSION:2.0
PRODID:-//Societatea Părinților Informați - ECPv6.3.5//NONSGML v1.0//EN
CALSCALE:GREGORIAN
METHOD:PUBLISH
X-WR-CALNAME:Societatea Părinților Informați
X-ORIGINAL-URL:https://societateaparintilor.ro
X-WR-CALDESC:Events for Societatea Părinților Informați
REFRESH-INTERVAL;VALUE=DURATION:PT1H
X-Robots-Tag:noindex
X-PUBLISHED-TTL:PT1H
BEGIN:VTIMEZONE
TZID:UTC
BEGIN:STANDARD
TZOFFSETFROM:+0000
TZOFFSETTO:+0000
TZNAME:UTC
DTSTART:20220101T000000
END:STANDARD
END:VTIMEZONE
BEGIN:VEVENT
DTSTART;TZID=UTC:20220303T180000
DTEND;TZID=UTC:20220303T193000
DTSTAMP:20260424T124741
CREATED:20220418T061559Z
LAST-MODIFIED:20220420T195545Z
UID:443-1646330400-1646335800@societateaparintilor.ro
SUMMARY:Sănătatea familiei în contextul actual al războiului din Ucraina
DESCRIPTION:Ce sunt războaiele?\, Din ce motive încep acestea? sau Cine le poate opri? sunt doar câteva din întrebările la care ne gândim în ultimul timp\, și este responsabilitatea noastră să le explicăm și copiilor. Cum facem asta? \nPosibilitatea ca cei mici să se simtă speriați\, neajutorați\, neputincioși este foarte mare\, iar anxietatea își poate face apariția în orice moment. Din acest motiv vom discuta cu psihologii noștri despre cum să le prezentăm ceea ce se întâmplă în zilele noastre și cum le oferim suportul emoțional necesar.
URL:https://societateaparintilor.ro/eveniment/sanatatea-familiei-in-contextul-actual-al-razboiului-din-ucraina/
LOCATION:Online
CATEGORIES:Webinarii
ATTACH;FMTTYPE=image/jpeg:https://societateaparintilor.ro/wp-content/uploads/2022/04/afis-sanatatea-familiei-razboi-ucraina-webinar-societatea-parintilor-informati.jpg
ORGANIZER;CN="Societatea P%C4%83rin%C8%9Bilor":MAILTO:info@societateaparintilor.ro
END:VEVENT
END:VCALENDAR